BEGIN:VCALENDAR
VERSION:2.0
PRODID:-//Safe and Sound - ECPv6.15.20//NONSGML v1.0//EN
CALSCALE:GREGORIAN
METHOD:PUBLISH
X-WR-CALNAME:Safe and Sound
X-ORIGINAL-URL:https://safesound.org
X-WR-CALDESC:Events for Safe and Sound
REFRESH-INTERVAL;VALUE=DURATION:PT1H
X-Robots-Tag:noindex
X-PUBLISHED-TTL:PT1H
BEGIN:VTIMEZONE
TZID:America/Chicago
BEGIN:DAYLIGHT
TZOFFSETFROM:-0600
TZOFFSETTO:-0500
TZNAME:CDT
DTSTART:20250309T080000
END:DAYLIGHT
BEGIN:STANDARD
TZOFFSETFROM:-0500
TZOFFSETTO:-0600
TZNAME:CST
DTSTART:20251102T070000
END:STANDARD
BEGIN:DAYLIGHT
TZOFFSETFROM:-0600
TZOFFSETTO:-0500
TZNAME:CDT
DTSTART:20260308T080000
END:DAYLIGHT
BEGIN:STANDARD
TZOFFSETFROM:-0500
TZOFFSETTO:-0600
TZNAME:CST
DTSTART:20261101T070000
END:STANDARD
BEGIN:DAYLIGHT
TZOFFSETFROM:-0600
TZOFFSETTO:-0500
TZNAME:CDT
DTSTART:20270314T080000
END:DAYLIGHT
BEGIN:STANDARD
TZOFFSETFROM:-0500
TZOFFSETTO:-0600
TZNAME:CST
DTSTART:20271107T070000
END:STANDARD
END:VTIMEZONE
BEGIN:VEVENT
DTSTART;TZID=America/Chicago:20260423T173000
DTEND;TZID=America/Chicago:20260423T193000
DTSTAMP:20260421T051544
CREATED:20260327T154309Z
LAST-MODIFIED:20260327T154309Z
UID:10000659-1776965400-1776972600@safesound.org
SUMMARY:Resident Leader Training: April Cohort
DESCRIPTION:Get involved with your community with confidence and purpose. Resident Leader Training is designed to equip you with the practical tools\, communication skills\, and real-world strategies you need to support your community and lead with impact. For the month of April\, each training takes place on Thursday evenings from 5:30pm to 7:30pm. \nWeekly Topics: \nWeek 1 – April 2\nIntroduction to Safe & Sound\n\nWeek 2 – April 9\nCollective Impact\n\nWeek 3 – April 16\nCrime Prevention & Safety \n\nWeek 4 – April 23\nCivic Engagement & Advocacy\n\nWeek 5 – April 30\nGood Neighbor Grant & Block Clubs \n\n\n\n 
URL:https://safesound.org/event-time/resident-leader-training-april-cohort/2026-04-23/
LOCATION:Safe & Sound\, Inc\, 4422 W Leon Terrace\, Milwaukee\, WI\, 53210\, United States
CATEGORIES:Full Org
END:VEVENT
BEGIN:VEVENT
DTSTART;TZID=America/Chicago:20260430T173000
DTEND;TZID=America/Chicago:20260430T193000
DTSTAMP:20260421T051544
CREATED:20260327T154309Z
LAST-MODIFIED:20260327T154309Z
UID:10000660-1777570200-1777577400@safesound.org
SUMMARY:Resident Leader Training: April Cohort
DESCRIPTION:Get involved with your community with confidence and purpose. Resident Leader Training is designed to equip you with the practical tools\, communication skills\, and real-world strategies you need to support your community and lead with impact. For the month of April\, each training takes place on Thursday evenings from 5:30pm to 7:30pm. \nWeekly Topics: \nWeek 1 – April 2\nIntroduction to Safe & Sound\n\nWeek 2 – April 9\nCollective Impact\n\nWeek 3 – April 16\nCrime Prevention & Safety \n\nWeek 4 – April 23\nCivic Engagement & Advocacy\n\nWeek 5 – April 30\nGood Neighbor Grant & Block Clubs \n\n\n\n 
URL:https://safesound.org/event-time/resident-leader-training-april-cohort/2026-04-30/
LOCATION:Safe & Sound\, Inc\, 4422 W Leon Terrace\, Milwaukee\, WI\, 53210\, United States
CATEGORIES:Full Org
END:VEVENT
END:VCALENDAR