BEGIN:VCALENDAR
VERSION:2.0
PRODID:-//Safe and Sound - ECPv6.15.20//NONSGML v1.0//EN
CALSCALE:GREGORIAN
METHOD:PUBLISH
X-ORIGINAL-URL:https://safesound.org
X-WR-CALDESC:Events for Safe and Sound
REFRESH-INTERVAL;VALUE=DURATION:PT1H
X-Robots-Tag:noindex
X-PUBLISHED-TTL:PT1H
BEGIN:VTIMEZONE
TZID:America/Chicago
BEGIN:DAYLIGHT
TZOFFSETFROM:-0600
TZOFFSETTO:-0500
TZNAME:CDT
DTSTART:20240310T080000
END:DAYLIGHT
BEGIN:STANDARD
TZOFFSETFROM:-0500
TZOFFSETTO:-0600
TZNAME:CST
DTSTART:20241103T070000
END:STANDARD
BEGIN:DAYLIGHT
TZOFFSETFROM:-0600
TZOFFSETTO:-0500
TZNAME:CDT
DTSTART:20250309T080000
END:DAYLIGHT
BEGIN:STANDARD
TZOFFSETFROM:-0500
TZOFFSETTO:-0600
TZNAME:CST
DTSTART:20251102T070000
END:STANDARD
BEGIN:DAYLIGHT
TZOFFSETFROM:-0600
TZOFFSETTO:-0500
TZNAME:CDT
DTSTART:20260308T080000
END:DAYLIGHT
BEGIN:STANDARD
TZOFFSETFROM:-0500
TZOFFSETTO:-0600
TZNAME:CST
DTSTART:20261101T070000
END:STANDARD
END:VTIMEZONE
BEGIN:VEVENT
DTSTART;TZID=America/Chicago:20251105T110000
DTEND;TZID=America/Chicago:20251105T123000
DTSTAMP:20260421T161523
CREATED:20250215T053936Z
LAST-MODIFIED:20250215T053936Z
UID:10000592-1762340400-1762345800@safesound.org
SUMMARY:District 5 - Crime & Safety Meeting
DESCRIPTION:Atkinson Library\, 1960 W Atkinson Ave\, Wed\, November 5th\, 5-6:30pm
URL:https://safesound.org/event-time/district-5-crime-safety-meeting-10/
LOCATION:WI
ATTACH;FMTTYPE=image/png:https://safesound.org/wp-content/uploads/2025/02/D5-CRIME-SAFETY-IMG.png
END:VEVENT
BEGIN:VEVENT
DTSTART;TZID=America/Chicago:20251108T030000
DTEND;TZID=America/Chicago:20251108T043000
DTSTAMP:20260421T161523
CREATED:20250123T061615Z
LAST-MODIFIED:20250123T061615Z
UID:10000522-1762570800-1762576200@safesound.org
SUMMARY:Coffee With A Cop - District 3
DESCRIPTION:Connect with District 3 officers the second Saturday of every month at 9:00am! 6409 W Bluemound Rd. Free small coffee provided.
URL:https://safesound.org/event-time/coffee-with-a-cop-district-3-11/
LOCATION:WI
ATTACH;FMTTYPE=image/png:https://safesound.org/wp-content/uploads/2025/01/D3-Coffee-with-a-Cop-01-11-25.png
END:VEVENT
BEGIN:VEVENT
DTSTART;TZID=America/Chicago:20251117T110000
DTEND;TZID=America/Chicago:20251117T123000
DTSTAMP:20260421T161523
CREATED:20250130T095150Z
LAST-MODIFIED:20250130T095150Z
UID:10000554-1763377200-1763382600@safesound.org
SUMMARY:District 7 - Crime & Safety Meeting
DESCRIPTION:3969 N 74th St (Capitol Library)
URL:https://safesound.org/event-time/district-7-crime-safety-meeting-11/
LOCATION:WI
ATTACH;FMTTYPE=image/png:https://safesound.org/wp-content/uploads/2025/01/2025-Crime-Safety-Meeting-D7.png
END:VEVENT
BEGIN:VEVENT
DTSTART;TZID=America/Chicago:20251125T120000
DTEND;TZID=America/Chicago:20251125T140000
DTSTAMP:20260421T161523
CREATED:20250130T102237Z
LAST-MODIFIED:20250130T102237Z
UID:10000564-1764072000-1764079200@safesound.org
SUMMARY:District 4 - Crime & Safety Meeting
DESCRIPTION:6680 N Teutonia Ave (MPD Safety Academy)
URL:https://safesound.org/event-time/district-4-crime-safety-meeting-10/
LOCATION:WI
ATTACH;FMTTYPE=image/png:https://safesound.org/wp-content/uploads/2025/01/D4-Crime-Safety-2025.png
END:VEVENT
BEGIN:VEVENT
DTSTART;TZID=America/Chicago:20251130T120000
DTEND;TZID=America/Chicago:20251130T140000
DTSTAMP:20260421T161523
CREATED:20250129T050924Z
LAST-MODIFIED:20250129T050924Z
UID:10000534-1764504000-1764511200@safesound.org
SUMMARY:Sundaes on Sunday
DESCRIPTION:Come help MPD Districts 3\, 5\, and 7 officers spread joy and chat with the community with free ice cream sundaes at Sentry\, 7101 W Lisbon Ave\, Milwaukee\, WI from 6-8pm.
URL:https://safesound.org/event-time/sundaes-on-sunday-11/
LOCATION:WI
ATTACH;FMTTYPE=image/png:https://safesound.org/wp-content/uploads/2025/01/Sundaes-on-Sunday-Event-2025.png
END:VEVENT
END:VCALENDAR