BEGIN:VCALENDAR
VERSION:2.0
PRODID:-//Safe and Sound - ECPv6.15.20//NONSGML v1.0//EN
CALSCALE:GREGORIAN
METHOD:PUBLISH
X-ORIGINAL-URL:https://safesound.org
X-WR-CALDESC:Events for Safe and Sound
REFRESH-INTERVAL;VALUE=DURATION:PT1H
X-Robots-Tag:noindex
X-PUBLISHED-TTL:PT1H
BEGIN:VTIMEZONE
TZID:America/Chicago
BEGIN:DAYLIGHT
TZOFFSETFROM:-0600
TZOFFSETTO:-0500
TZNAME:CDT
DTSTART:20240310T080000
END:DAYLIGHT
BEGIN:STANDARD
TZOFFSETFROM:-0500
TZOFFSETTO:-0600
TZNAME:CST
DTSTART:20241103T070000
END:STANDARD
BEGIN:DAYLIGHT
TZOFFSETFROM:-0600
TZOFFSETTO:-0500
TZNAME:CDT
DTSTART:20250309T080000
END:DAYLIGHT
BEGIN:STANDARD
TZOFFSETFROM:-0500
TZOFFSETTO:-0600
TZNAME:CST
DTSTART:20251102T070000
END:STANDARD
BEGIN:DAYLIGHT
TZOFFSETFROM:-0600
TZOFFSETTO:-0500
TZNAME:CDT
DTSTART:20260308T080000
END:DAYLIGHT
BEGIN:STANDARD
TZOFFSETFROM:-0500
TZOFFSETTO:-0600
TZNAME:CST
DTSTART:20261101T070000
END:STANDARD
END:VTIMEZONE
BEGIN:VEVENT
DTSTART;TZID=America/Chicago:20250331T030000
DTEND;TZID=America/Chicago:20250407T120000
DTSTAMP:20260421T033519
CREATED:20250403T061258Z
LAST-MODIFIED:20250403T061325Z
UID:10000609-1743390000-1744027200@safesound.org
SUMMARY:Safe & Sound - Collective Efficacy Surveys Kickoff
DESCRIPTION:The Safe & Sound team will utilize this kickoff week (and beyond) to conduct Collective Efficacy Surveys throughout the neighborhoods we serve\, seeking answers to questions from residents surrounding their sense of safety and community. The team will then deliver the results via Data Chats once the surveys have been processed.
URL:https://safesound.org/event-time/safe-sound-collective-efficacy-surveys-kickoff/
LOCATION:WI
END:VEVENT
BEGIN:VEVENT
DTSTART;TZID=America/Chicago:20250402T120000
DTEND;TZID=America/Chicago:20250402T133000
DTSTAMP:20260421T033519
CREATED:20250215T052929Z
LAST-MODIFIED:20250328T002328Z
UID:10000585-1743595200-1743600600@safesound.org
SUMMARY:District 5 - Crime & Safety Meeting
DESCRIPTION:Thrive on King\, 2153 N Martin Luther King Jr Dr\, Wed\, April 2nd\, 5-6:30pm
URL:https://safesound.org/event-time/district-5-crime-safety-meeting-3/
LOCATION:WI
ATTACH;FMTTYPE=image/jpeg:https://safesound.org/wp-content/uploads/2025/02/IMG_1447.jpg
END:VEVENT
BEGIN:VEVENT
DTSTART;TZID=America/Chicago:20250402T123000
DTEND;TZID=America/Chicago:20250402T143000
DTSTAMP:20260421T033519
CREATED:20250205T004251Z
LAST-MODIFIED:20250205T004436Z
UID:10000570-1743597000-1743604200@safesound.org
SUMMARY:FMP's Fathers Building Fathers
DESCRIPTION:Fathers Making Progress’ Fathers Building Fathers Sessions (February 26 – May 14\, 2025)
URL:https://safesound.org/event-time/fmps-fathers-building-fathers-6/
LOCATION:WI
ATTACH;FMTTYPE=image/jpeg:https://safesound.org/wp-content/uploads/2025/02/FMP-Fathers-Building-Fathers-02.26-05.14.jpeg
END:VEVENT
BEGIN:VEVENT
DTSTART;TZID=America/Chicago:20250409T070000
DTEND;TZID=America/Chicago:20250409T090000
DTSTAMP:20260421T033519
CREATED:20250217T223610Z
LAST-MODIFIED:20250217T223610Z
UID:10000596-1744182000-1744189200@safesound.org
SUMMARY:District 5 - Drug Take Back Event
DESCRIPTION:Dispose of unwanted/unused drugs in District 5. April 9th\, 12:00-2:00pm\, Lapham Park\, 1901 N 6th St
URL:https://safesound.org/event-time/district-5-drug-take-back-event-3/
LOCATION:WI
ATTACH;FMTTYPE=image/png:https://safesound.org/wp-content/uploads/2025/02/D5-Drug-Takeback-Multiple-2025.png
END:VEVENT
BEGIN:VEVENT
DTSTART;TZID=America/Chicago:20250409T123000
DTEND;TZID=America/Chicago:20250409T143000
DTSTAMP:20260421T033519
CREATED:20250205T004544Z
LAST-MODIFIED:20250205T004544Z
UID:10000571-1744201800-1744209000@safesound.org
SUMMARY:FMP's Fathers Building Fathers
DESCRIPTION:Fathers Making Progress’ Fathers Building Fathers Sessions (February 26 – May 14\, 2025)
URL:https://safesound.org/event-time/fmps-fathers-building-fathers-7/
LOCATION:WI
ATTACH;FMTTYPE=image/jpeg:https://safesound.org/wp-content/uploads/2025/02/FMP-Fathers-Building-Fathers-02.26-05.14.jpeg
END:VEVENT
BEGIN:VEVENT
DTSTART;TZID=America/Chicago:20250412T040000
DTEND;TZID=America/Chicago:20250412T053000
DTSTAMP:20260421T033519
CREATED:20250123T052728Z
LAST-MODIFIED:20250123T052728Z
UID:10000514-1744430400-1744435800@safesound.org
SUMMARY:Coffee With A Cop - District 3
DESCRIPTION:Connect with District 3 officers the second Saturday of every month at 9:00am! 6409 W Bluemound Rd. Free small coffee provided.
URL:https://safesound.org/event-time/coffee-with-a-cop-district-3-4/
LOCATION:WI
ATTACH;FMTTYPE=image/png:https://safesound.org/wp-content/uploads/2025/01/D3-Coffee-with-a-Cop-01-11-25.png
END:VEVENT
BEGIN:VEVENT
DTSTART;TZID=America/Chicago:20250412T070000
DTEND;TZID=America/Chicago:20250412T100000
DTSTAMP:20260421T033519
CREATED:20250413T224756Z
LAST-MODIFIED:20250413T224756Z
UID:10000612-1744441200-1744452000@safesound.org
SUMMARY:Easter Egg Hunt w/MPD D2 & Friends
DESCRIPTION:Easter Egg Hunt w/MPD D2 & Friends\, Clarke Square Park – 2330 w Vieau Pl\, 12p-3p
URL:https://safesound.org/event-time/easter-egg-hunt-w-mpd-d2-friends/
LOCATION:WI
ATTACH;FMTTYPE=image/jpeg:https://safesound.org/wp-content/uploads/2025/04/IMG_1898.jpeg
END:VEVENT
BEGIN:VEVENT
DTSTART;TZID=America/Chicago:20250412T190000
DTEND;TZID=America/Chicago:20250412T190000
DTSTAMP:20260421T033519
CREATED:20250413T195505Z
LAST-MODIFIED:20250413T195505Z
UID:10000611-1744484400-1744484400@safesound.org
SUMMARY:District 7 Easter Egg Hunt/Community Meet & Greet
DESCRIPTION:MPD District 7 Community Meet & Greet/Easter Egg Hunt at Cooper Park\, 8701 W Chambers\, 11a-3p
URL:https://safesound.org/event-time/district-7-easter-egg-hunt-community-meet-greet/
LOCATION:WI
ATTACH;FMTTYPE=image/jpeg:https://safesound.org/wp-content/uploads/2025/04/IMG_6245.jpeg
END:VEVENT
BEGIN:VEVENT
DTSTART;TZID=America/Chicago:20250416T123000
DTEND;TZID=America/Chicago:20250416T143000
DTSTAMP:20260421T033519
CREATED:20250205T004807Z
LAST-MODIFIED:20250205T004807Z
UID:10000572-1744806600-1744813800@safesound.org
SUMMARY:FMP's Fathers Building Fathers
DESCRIPTION:Fathers Making Progress’ Fathers Building Fathers Sessions (February 26 – May 14\, 2025)
URL:https://safesound.org/event-time/fmps-fathers-building-fathers-8/
LOCATION:WI
ATTACH;FMTTYPE=image/jpeg:https://safesound.org/wp-content/uploads/2025/02/FMP-Fathers-Building-Fathers-02.26-05.14.jpeg
END:VEVENT
BEGIN:VEVENT
DTSTART;TZID=America/Chicago:20250416T130000
DTEND;TZID=America/Chicago:20250416T150000
DTSTAMP:20260421T033519
CREATED:20250416T203736Z
LAST-MODIFIED:20250416T203951Z
UID:10000613-1744808400-1744815600@safesound.org
SUMMARY:District 2 - Crime & Safety Meeting
DESCRIPTION:District 2 Crime & Safety Meeting\, Wed. April 16\, 6:00pm\, 906 W Historic Mitchell St
URL:https://safesound.org/event-time/district-2-crime-safety/
LOCATION:WI
ATTACH;FMTTYPE=image/jpeg:https://safesound.org/wp-content/uploads/2025/04/D2-Crime-and-Safety-04.16.2025.jpeg
END:VEVENT
BEGIN:VEVENT
DTSTART;TZID=America/Chicago:20250421T120000
DTEND;TZID=America/Chicago:20250421T133000
DTSTAMP:20260421T033519
CREATED:20250130T093201Z
LAST-MODIFIED:20250130T093201Z
UID:10000547-1745236800-1745242200@safesound.org
SUMMARY:District 7 - Crime & Safety Meeting
DESCRIPTION:8901 W Capitol Dr (WellPoint)
URL:https://safesound.org/event-time/district-7-crime-safety-meeting-4/
LOCATION:WI
ATTACH;FMTTYPE=image/png:https://safesound.org/wp-content/uploads/2025/01/2025-Crime-Safety-Meeting-D7.png
END:VEVENT
BEGIN:VEVENT
DTSTART;TZID=America/Chicago:20250423T123000
DTEND;TZID=America/Chicago:20250423T143000
DTSTAMP:20260421T033519
CREATED:20250205T004939Z
LAST-MODIFIED:20250205T004939Z
UID:10000573-1745411400-1745418600@safesound.org
SUMMARY:FMP's Fathers Building Fathers
DESCRIPTION:Fathers Making Progress’ Fathers Building Fathers Sessions (February 26 – May 14\, 2025)
URL:https://safesound.org/event-time/fmps-fathers-building-fathers-9/
LOCATION:WI
ATTACH;FMTTYPE=image/jpeg:https://safesound.org/wp-content/uploads/2025/02/FMP-Fathers-Building-Fathers-02.26-05.14.jpeg
END:VEVENT
BEGIN:VEVENT
DTSTART;TZID=America/Chicago:20250424T120000
DTEND;TZID=America/Chicago:20250424T140000
DTSTAMP:20260421T033519
CREATED:20250424T065430Z
LAST-MODIFIED:20250424T065430Z
UID:10000615-1745496000-1745503200@safesound.org
SUMMARY:If These Shoes Could Talk Workshop
DESCRIPTION:“If These Shoes Could Talk” is an open forum where participants first decorate a shoe to symbolize their personal experiences and life journeys.\nOnce completed\, they come together to share the stories behind their designs\, creating a powerful space for reflection\, connection\, and expression.\nApril 24\, 2025\n5 PM – 7 PM
URL:https://safesound.org/event-time/if-these-shoes-could-talk-workshop/
LOCATION:WI
ATTACH;FMTTYPE=image/png:https://safesound.org/wp-content/uploads/2025/04/Image-14.png
END:VEVENT
BEGIN:VEVENT
DTSTART;VALUE=DATE:20250425
DTEND;VALUE=DATE:20250427
DTSTAMP:20260421T033519
CREATED:20250424T071433Z
LAST-MODIFIED:20250424T071433Z
UID:10000617-1745607600-1745693999@safesound.org
SUMMARY:National Prescription Drug Take Back Day
DESCRIPTION:Drop off your unused/unwanted prescription drugs as a way to stop them from getting into the wrong hands or into our water supply!
URL:https://safesound.org/event-time/national-prescription-drug-take-back-day/
LOCATION:WI
ATTACH;FMTTYPE=image/jpeg:https://safesound.org/wp-content/uploads/2025/04/National-Prescription-Drug-Take-Back-April-2025.jpg
END:VEVENT
BEGIN:VEVENT
DTSTART;TZID=America/Chicago:20250426T050000
DTEND;TZID=America/Chicago:20250426T080000
DTSTAMP:20260421T033519
CREATED:20250215T033552Z
LAST-MODIFIED:20250424T070709Z
UID:10000579-1745643600-1745654400@safesound.org
SUMMARY:National Prescription Drug Take Back - District 5
DESCRIPTION:April 26th\, 2025\, 10AM – 1PM\, @WestCare WI: 335 W Wright St\, Milwaukee\, WI 53212
URL:https://safesound.org/event-time/national-drug-take-back-day-district-5/
LOCATION:WI
ATTACH;FMTTYPE=image/png:https://safesound.org/wp-content/uploads/2025/02/D5-Drug-Takeback-2025-2.png
END:VEVENT
BEGIN:VEVENT
DTSTART;TZID=America/Chicago:20250426T050000
DTEND;TZID=America/Chicago:20250426T090000
DTSTAMP:20260421T033519
CREATED:20250424T070421Z
LAST-MODIFIED:20250424T070421Z
UID:10000616-1745643600-1745658000@safesound.org
SUMMARY:National Prescription Drug Take Back - District 4
DESCRIPTION:Saturday\, April 26th\, 10am-2pm\, Sam’s Club\, 8050 N 124th Street.
URL:https://safesound.org/event-time/national-prescription-drug-take-back-district-4/
LOCATION:WI
ATTACH;FMTTYPE=image/png:https://safesound.org/wp-content/uploads/2025/04/District-4-NPDTB-April-2025.png
END:VEVENT
BEGIN:VEVENT
DTSTART;TZID=America/Chicago:20250426T060000
DTEND;TZID=America/Chicago:20250426T090000
DTSTAMP:20260421T033519
CREATED:20250328T011348Z
LAST-MODIFIED:20250424T070551Z
UID:10000608-1745647200-1745658000@safesound.org
SUMMARY:National Prescription Drug Take Back - District 7
DESCRIPTION:District 7’s National Drug Take Back\, April 26 from 11am-2pm at Planned Parenthood\, 5380 W Fond Du Lac Ave\, Milwaukee\, WI 53216
URL:https://safesound.org/event-time/district-7-national-drug-take-back/
LOCATION:WI
ATTACH;FMTTYPE=image/png:https://safesound.org/wp-content/uploads/2025/03/D7-Drug-Takeback.png
END:VEVENT
BEGIN:VEVENT
DTSTART;TZID=America/Chicago:20250426T060000
DTEND;TZID=America/Chicago:20250426T090000
DTSTAMP:20260421T033519
CREATED:20250401T023416Z
LAST-MODIFIED:20250424T070506Z
UID:10000610-1745647200-1745658000@safesound.org
SUMMARY:National Prescription Drug Take Back - District 2
DESCRIPTION:Christ St Peter’s Church (parking lot). 2137 W Greenfield Ave from 11am-2pm. Bring your unused\, unwanted drugs to be properly disposed of by the Safe & Sound team in collaboration with MPD’s District 2.
URL:https://safesound.org/event-time/national-drug-take-back-district-2/
LOCATION:WI
ATTACH;FMTTYPE=image/png:https://safesound.org/wp-content/uploads/2025/03/D2-Drug-Take-Back-April-2025-ENG.png
END:VEVENT
BEGIN:VEVENT
DTSTART;TZID=America/Chicago:20250426T060000
DTEND;TZID=America/Chicago:20250426T100000
DTSTAMP:20260421T033519
CREATED:20250424T052216Z
LAST-MODIFIED:20250424T052216Z
UID:10000614-1745647200-1745661600@safesound.org
SUMMARY:National Prescription Drug Takeback - District 3
DESCRIPTION:Saturday\, April 26th\, 11am-3pm at Cherry Court Apartments\, 1525 N 24th St Milwaukee\, WI 53205
URL:https://safesound.org/event-time/national-prescription-drug-takeback-district-3/
LOCATION:WI
ATTACH;FMTTYPE=image/png:https://safesound.org/wp-content/uploads/2025/04/D3-NBTB-04-26-2025.png
END:VEVENT
BEGIN:VEVENT
DTSTART;TZID=America/Chicago:20250427T130000
DTEND;TZID=America/Chicago:20250427T150000
DTSTAMP:20260421T033519
CREATED:20250129T023552Z
LAST-MODIFIED:20250129T023552Z
UID:10000527-1745758800-1745766000@safesound.org
SUMMARY:Sundaes on Sunday
DESCRIPTION:Come help MPD Districts 3\, 5\, and 7 officers spread joy and chat with the community with free ice cream sundaes at Sentry\, 7101 W Lisbon Ave\, Milwaukee\, WI.
URL:https://safesound.org/event-time/sundaes-on-sunday-4/
LOCATION:WI
ATTACH;FMTTYPE=image/png:https://safesound.org/wp-content/uploads/2025/01/Sundaes-on-Sunday-Event-2025.png
END:VEVENT
BEGIN:VEVENT
DTSTART;TZID=America/Chicago:20250429T130000
DTEND;TZID=America/Chicago:20250429T150000
DTSTAMP:20260421T033519
CREATED:20250130T101228Z
LAST-MODIFIED:20250130T101228Z
UID:10000557-1745931600-1745938800@safesound.org
SUMMARY:District 4 - Crime & Safety Meeting
DESCRIPTION:6680 N Teutonia Ave (MPD Safety Academy)
URL:https://safesound.org/event-time/district-4-crime-safety-meeting-3/
LOCATION:WI
ATTACH;FMTTYPE=image/png:https://safesound.org/wp-content/uploads/2025/01/D4-Crime-Safety-2025.png
END:VEVENT
BEGIN:VEVENT
DTSTART;TZID=America/Chicago:20250430T123000
DTEND;TZID=America/Chicago:20250430T143000
DTSTAMP:20260421T033519
CREATED:20250205T005032Z
LAST-MODIFIED:20250205T005032Z
UID:10000574-1746016200-1746023400@safesound.org
SUMMARY:FMP's Fathers Building Fathers
DESCRIPTION:Fathers Making Progress’ Fathers Building Fathers Sessions (February 26 – May 14\, 2025)
URL:https://safesound.org/event-time/fmps-fathers-building-fathers-10/
LOCATION:WI
ATTACH;FMTTYPE=image/jpeg:https://safesound.org/wp-content/uploads/2025/02/FMP-Fathers-Building-Fathers-02.26-05.14.jpeg
END:VEVENT
END:VCALENDAR