BEGIN:VCALENDAR
VERSION:2.0
PRODID:-//Safe and Sound - ECPv6.15.20//NONSGML v1.0//EN
CALSCALE:GREGORIAN
METHOD:PUBLISH
X-ORIGINAL-URL:https://safesound.org
X-WR-CALDESC:Events for Safe and Sound
REFRESH-INTERVAL;VALUE=DURATION:PT1H
X-Robots-Tag:noindex
X-PUBLISHED-TTL:PT1H
BEGIN:VTIMEZONE
TZID:America/Chicago
BEGIN:DAYLIGHT
TZOFFSETFROM:-0600
TZOFFSETTO:-0500
TZNAME:CDT
DTSTART:20230312T080000
END:DAYLIGHT
BEGIN:STANDARD
TZOFFSETFROM:-0500
TZOFFSETTO:-0600
TZNAME:CST
DTSTART:20231105T070000
END:STANDARD
BEGIN:DAYLIGHT
TZOFFSETFROM:-0600
TZOFFSETTO:-0500
TZNAME:CDT
DTSTART:20240310T080000
END:DAYLIGHT
BEGIN:STANDARD
TZOFFSETFROM:-0500
TZOFFSETTO:-0600
TZNAME:CST
DTSTART:20241103T070000
END:STANDARD
BEGIN:DAYLIGHT
TZOFFSETFROM:-0600
TZOFFSETTO:-0500
TZNAME:CDT
DTSTART:20250309T080000
END:DAYLIGHT
BEGIN:STANDARD
TZOFFSETFROM:-0500
TZOFFSETTO:-0600
TZNAME:CST
DTSTART:20251102T070000
END:STANDARD
END:VTIMEZONE
BEGIN:VEVENT
DTSTART;TZID=America/Chicago:20241204T120000
DTEND;TZID=America/Chicago:20241204T140000
DTSTAMP:20260421T102320
CREATED:20241029T205257Z
LAST-MODIFIED:20241029T205257Z
UID:10000433-1733313600-1733320800@safesound.org
SUMMARY:Resident Leader Training
DESCRIPTION:Location: Safe & Sound (4422 W Leon Terrace) \nOver the course of six weeks\, you will learn how to: \n\nEstablish a Block Club\nHold Monthly Meetings\nConduct Outreach\nUse the City’s Mobile App\nPlan Events that Empower the Neighborhood\n\nSpace is limited! Contact Bridget Whitaker at bridget@safesound.org to register.
URL:https://safesound.org/event-time/resident-leader-training-3/2024-12-04/
LOCATION:WI
ATTACH;FMTTYPE=image/png:https://safesound.org/wp-content/uploads/2024/10/Resident-Leader-Training-Nov-2024.png
END:VEVENT
BEGIN:VEVENT
DTSTART;TZID=America/Chicago:20241211T120000
DTEND;TZID=America/Chicago:20241211T140000
DTSTAMP:20260421T102320
CREATED:20241029T205257Z
LAST-MODIFIED:20241029T205257Z
UID:10000434-1733918400-1733925600@safesound.org
SUMMARY:Resident Leader Training
DESCRIPTION:Location: Safe & Sound (4422 W Leon Terrace) \nOver the course of six weeks\, you will learn how to: \n\nEstablish a Block Club\nHold Monthly Meetings\nConduct Outreach\nUse the City’s Mobile App\nPlan Events that Empower the Neighborhood\n\nSpace is limited! Contact Bridget Whitaker at bridget@safesound.org to register.
URL:https://safesound.org/event-time/resident-leader-training-3/2024-12-11/
LOCATION:WI
ATTACH;FMTTYPE=image/png:https://safesound.org/wp-content/uploads/2024/10/Resident-Leader-Training-Nov-2024.png
END:VEVENT
BEGIN:VEVENT
DTSTART;TZID=America/Chicago:20241218T120000
DTEND;TZID=America/Chicago:20241218T120000
DTSTAMP:20260421T102320
CREATED:20240104T210429Z
LAST-MODIFIED:20240319T224635Z
UID:10000116-1734523200-1734523200@safesound.org
SUMMARY:MPD District 2 Crime & Safety Meeting
DESCRIPTION:Every Third Wednesday of the month.
URL:https://safesound.org/event-time/mpd-district-2-crime-safety-meeting/2024-12-18/
LOCATION:WI
ATTACH;FMTTYPE=image/jpeg:https://safesound.org/wp-content/uploads/2024/01/MPD-District-Two-crime-safety-Spanish-002.jpg
END:VEVENT
BEGIN:VEVENT
DTSTART;TZID=America/Chicago:20241218T120000
DTEND;TZID=America/Chicago:20241218T140000
DTSTAMP:20260421T102320
CREATED:20241029T205257Z
LAST-MODIFIED:20241029T205257Z
UID:10000435-1734523200-1734530400@safesound.org
SUMMARY:Resident Leader Training
DESCRIPTION:Location: Safe & Sound (4422 W Leon Terrace) \nOver the course of six weeks\, you will learn how to: \n\nEstablish a Block Club\nHold Monthly Meetings\nConduct Outreach\nUse the City’s Mobile App\nPlan Events that Empower the Neighborhood\n\nSpace is limited! Contact Bridget Whitaker at bridget@safesound.org to register.
URL:https://safesound.org/event-time/resident-leader-training-3/2024-12-18/
LOCATION:WI
ATTACH;FMTTYPE=image/png:https://safesound.org/wp-content/uploads/2024/10/Resident-Leader-Training-Nov-2024.png
END:VEVENT
BEGIN:VEVENT
DTSTART;TZID=America/Chicago:20241225T120000
DTEND;TZID=America/Chicago:20241225T140000
DTSTAMP:20260421T102320
CREATED:20241029T205257Z
LAST-MODIFIED:20241029T205257Z
UID:10000436-1735128000-1735135200@safesound.org
SUMMARY:Resident Leader Training
DESCRIPTION:Location: Safe & Sound (4422 W Leon Terrace) \nOver the course of six weeks\, you will learn how to: \n\nEstablish a Block Club\nHold Monthly Meetings\nConduct Outreach\nUse the City’s Mobile App\nPlan Events that Empower the Neighborhood\n\nSpace is limited! Contact Bridget Whitaker at bridget@safesound.org to register.
URL:https://safesound.org/event-time/resident-leader-training-3/2024-12-25/
LOCATION:WI
ATTACH;FMTTYPE=image/png:https://safesound.org/wp-content/uploads/2024/10/Resident-Leader-Training-Nov-2024.png
END:VEVENT
END:VCALENDAR