BEGIN:VCALENDAR
VERSION:2.0
PRODID:-//Safe and Sound - ECPv6.15.20//NONSGML v1.0//EN
CALSCALE:GREGORIAN
METHOD:PUBLISH
X-WR-CALNAME:Safe and Sound
X-ORIGINAL-URL:https://safesound.org
X-WR-CALDESC:Events for Safe and Sound
REFRESH-INTERVAL;VALUE=DURATION:PT1H
X-Robots-Tag:noindex
X-PUBLISHED-TTL:PT1H
BEGIN:VTIMEZONE
TZID:America/Chicago
BEGIN:DAYLIGHT
TZOFFSETFROM:-0600
TZOFFSETTO:-0500
TZNAME:CDT
DTSTART:20230312T080000
END:DAYLIGHT
BEGIN:STANDARD
TZOFFSETFROM:-0500
TZOFFSETTO:-0600
TZNAME:CST
DTSTART:20231105T070000
END:STANDARD
BEGIN:DAYLIGHT
TZOFFSETFROM:-0600
TZOFFSETTO:-0500
TZNAME:CDT
DTSTART:20240310T080000
END:DAYLIGHT
BEGIN:STANDARD
TZOFFSETFROM:-0500
TZOFFSETTO:-0600
TZNAME:CST
DTSTART:20241103T070000
END:STANDARD
BEGIN:DAYLIGHT
TZOFFSETFROM:-0600
TZOFFSETTO:-0500
TZNAME:CDT
DTSTART:20250309T080000
END:DAYLIGHT
BEGIN:STANDARD
TZOFFSETFROM:-0500
TZOFFSETTO:-0600
TZNAME:CST
DTSTART:20251102T070000
END:STANDARD
END:VTIMEZONE
BEGIN:VEVENT
DTSTART;TZID=America/Chicago:20241001T120000
DTEND;TZID=America/Chicago:20241001T140000
DTSTAMP:20260421T134610
CREATED:20240904T211813Z
LAST-MODIFIED:20240904T213435Z
UID:10000402-1727784000-1727791200@safesound.org
SUMMARY:D2 - Layton Blvd West Collective Impact Data Chat
DESCRIPTION:Location: Mitchell Library (906 W Historic Mitchell St)
URL:https://safesound.org/event-time/d2-layton-blvd-west-collective-impact-data-chat/
LOCATION:WI
ATTACH;FMTTYPE=image/png:https://safesound.org/wp-content/uploads/2024/09/D2-Data-Chat-ENG.png
END:VEVENT
BEGIN:VEVENT
DTSTART;TZID=America/Chicago:20241003T123000
DTEND;TZID=America/Chicago:20241003T123000
DTSTAMP:20260421T134610
CREATED:20240930T224942Z
LAST-MODIFIED:20240930T235734Z
UID:10000411-1727958600-1727958600@safesound.org
SUMMARY:D5 Crime & Safety Meeting
DESCRIPTION:Location: Atkinson Street Library (1960 W Atkinson Ave)
URL:https://safesound.org/event-time/d5-crime-safety-meeting-2/
LOCATION:WI
ATTACH;FMTTYPE=image/png:https://safesound.org/wp-content/uploads/2024/09/D5-CrimeSafety.png
END:VEVENT
BEGIN:VEVENT
DTSTART;TZID=America/Chicago:20241004T020000
DTEND;TZID=America/Chicago:20241004T050000
DTSTAMP:20260421T134610
CREATED:20240905T002906Z
LAST-MODIFIED:20240921T003555Z
UID:10000407-1728007200-1728018000@safesound.org
SUMMARY:Annual Neighborhood Changemaker Breakfast
DESCRIPTION:
URL:https://safesound.org/event-time/annual-neighborhood-changemaker-breakfast/
LOCATION:WI
END:VEVENT
BEGIN:VEVENT
DTSTART;TZID=America/Chicago:20241011T120000
DTEND;TZID=America/Chicago:20241011T170000
DTSTAMP:20260421T134610
CREATED:20240918T225809Z
LAST-MODIFIED:20240919T012457Z
UID:10000410-1728648000-1728666000@safesound.org
SUMMARY:The Haunted Academy
DESCRIPTION:Location: 6680 N Teutonia Ave
URL:https://safesound.org/event-time/the-haunted-academy/
LOCATION:WI
ATTACH;FMTTYPE=image/jpeg:https://safesound.org/wp-content/uploads/2024/09/Haunted-Academy-Flyer.jpg
END:VEVENT
BEGIN:VEVENT
DTSTART;TZID=America/Chicago:20241013T080000
DTEND;TZID=America/Chicago:20241013T110000
DTSTAMP:20260421T134610
CREATED:20241008T205613Z
LAST-MODIFIED:20241008T205613Z
UID:10000412-1728806400-1728817200@safesound.org
SUMMARY:D7 Faith & Blue
DESCRIPTION:Location: Bishop Daniels Sports Leadership Academy 3500 W. Mother Daniels Way. Milwaukee \, WI 53209.
URL:https://safesound.org/event-time/d7-faith-blue/
LOCATION:WI
ATTACH;FMTTYPE=image/jpeg:https://safesound.org/wp-content/uploads/2024/10/d7-faith-and-blue.jpg
END:VEVENT
BEGIN:VEVENT
DTSTART;TZID=America/Chicago:20241016T130000
DTEND;TZID=America/Chicago:20241016T130000
DTSTAMP:20260421T134610
CREATED:20240104T210429Z
LAST-MODIFIED:20240319T224635Z
UID:10000114-1729083600-1729083600@safesound.org
SUMMARY:MPD District 2 Crime & Safety Meeting
DESCRIPTION:Every Third Wednesday of the month.
URL:https://safesound.org/event-time/mpd-district-2-crime-safety-meeting/2024-10-16/
LOCATION:WI
ATTACH;FMTTYPE=image/jpeg:https://safesound.org/wp-content/uploads/2024/01/MPD-District-Two-crime-safety-Spanish-002.jpg
END:VEVENT
BEGIN:VEVENT
DTSTART;TZID=America/Chicago:20241018T110000
DTEND;TZID=America/Chicago:20241018T130000
DTSTAMP:20260421T134610
CREATED:20241008T214324Z
LAST-MODIFIED:20241008T214626Z
UID:10000414-1729249200-1729256400@safesound.org
SUMMARY:Racine Trunk or Treat
DESCRIPTION:Location: The Salvation Army Church & Community Center (1901 Washington Ave)
URL:https://safesound.org/event-time/racine-trunk-or-treat/
LOCATION:WI
ATTACH;FMTTYPE=image/png:https://safesound.org/wp-content/uploads/2024/10/Racine-Trunk-Treat-ENG.png
END:VEVENT
BEGIN:VEVENT
DTSTART;TZID=America/Chicago:20241018T110000
DTEND;TZID=America/Chicago:20241018T140000
DTSTAMP:20260421T134610
CREATED:20241008T211948Z
LAST-MODIFIED:20241008T213123Z
UID:10000413-1729249200-1729260000@safesound.org
SUMMARY:D2 Trunk N Treat
DESCRIPTION:Location: 2137 W Greenfield Ave
URL:https://safesound.org/event-time/d2-trunk-or-treat/
LOCATION:WI
ATTACH;FMTTYPE=image/png:https://safesound.org/wp-content/uploads/2024/10/D2-Trunk-N-Treat-English.png
END:VEVENT
BEGIN:VEVENT
DTSTART;TZID=America/Chicago:20241018T120000
DTEND;TZID=America/Chicago:20241018T150000
DTSTAMP:20260421T134610
CREATED:20241008T233852Z
LAST-MODIFIED:20241008T235413Z
UID:10000420-1729252800-1729263600@safesound.org
SUMMARY:#BetterWaysToCope Youth Summit
DESCRIPTION:Location: Neu-Life Community Development (2014 W North Ave)
URL:https://safesound.org/event-time/betterwaystocope-youth-summit/
LOCATION:WI
ATTACH;FMTTYPE=image/jpeg:https://safesound.org/wp-content/uploads/2024/10/YouthSummit24_flyer-scaled.jpg
END:VEVENT
BEGIN:VEVENT
DTSTART;TZID=America/Chicago:20241019T060000
DTEND;TZID=America/Chicago:20241019T080000
DTSTAMP:20260421T134610
CREATED:20241008T223151Z
LAST-MODIFIED:20241008T223151Z
UID:10000418-1729317600-1729324800@safesound.org
SUMMARY:Pumpkin Palooza
DESCRIPTION:Indaba Band Shell\, behind St. Ann Center-Bucyrus Campus (2450 W North Ave)
URL:https://safesound.org/event-time/pumpkin-palooza/
LOCATION:WI
ATTACH;FMTTYPE=image/png:https://safesound.org/wp-content/uploads/2024/10/pumpkin-palooza.png
END:VEVENT
BEGIN:VEVENT
DTSTART;TZID=America/Chicago:20241019T110000
DTEND;TZID=America/Chicago:20241019T130000
DTSTAMP:20260421T134610
CREATED:20241009T203203Z
LAST-MODIFIED:20241009T235046Z
UID:10000421-1729335600-1729342800@safesound.org
SUMMARY:BLAQToBER Community Conversation & Resource Fair
DESCRIPTION:Location: Safe & Sound (4422 W Leon Terrace) \nTheme: A Celebration of Wellness\, Culture\, and Community
URL:https://safesound.org/event-time/blaqtober-community-conversation/
LOCATION:Safe & Sound\, 4422 West leon Terrace\, Milwaukee\, WI\, 53216\, United States
ATTACH;FMTTYPE=image/jpeg:https://safesound.org/wp-content/uploads/2024/10/Blaqtober-Weekend.jpg
END:VEVENT
BEGIN:VEVENT
DTSTART;TZID=America/Chicago:20241022T103000
DTEND;TZID=America/Chicago:20241022T133000
DTSTAMP:20260421T134610
CREATED:20241014T211846Z
LAST-MODIFIED:20241014T211846Z
UID:10000423-1729593000-1729603800@safesound.org
SUMMARY:Racine Barbershop Monday
DESCRIPTION:Location: Bray Center (924 Center St\, Racine\, WI)
URL:https://safesound.org/event-time/racine-barbershop-monday/2024-10-22/
LOCATION:WI
END:VEVENT
BEGIN:VEVENT
DTSTART;TZID=America/Chicago:20241023T103000
DTEND;TZID=America/Chicago:20241023T133000
DTSTAMP:20260421T134610
CREATED:20241014T211846Z
LAST-MODIFIED:20241014T211846Z
UID:10000424-1729679400-1729690200@safesound.org
SUMMARY:Racine Barbershop Monday
DESCRIPTION:Location: Bray Center (924 Center St\, Racine\, WI)
URL:https://safesound.org/event-time/racine-barbershop-monday/2024-10-23/
LOCATION:WI
END:VEVENT
BEGIN:VEVENT
DTSTART;TZID=America/Chicago:20241025T130000
DTEND;TZID=America/Chicago:20241025T150000
DTSTAMP:20260421T134610
CREATED:20241008T220819Z
LAST-MODIFIED:20241008T221723Z
UID:10000416-1729861200-1729868400@safesound.org
SUMMARY:Heartlove Place Harvest Fest
DESCRIPTION:Location: Mt. Zion Missionary Baptist Church (2207 N 2nd St)
URL:https://safesound.org/event-time/heartlove-place-harvest-fest/
LOCATION:WI
END:VEVENT
BEGIN:VEVENT
DTSTART;TZID=America/Chicago:20241026T050000
DTEND;TZID=America/Chicago:20241026T080000
DTSTAMP:20260421T134610
CREATED:20241008T223349Z
LAST-MODIFIED:20241008T223349Z
UID:10000419-1729918800-1729929600@safesound.org
SUMMARY:D3 Drug Take-Back
DESCRIPTION:Location: Cherry Court (1525 N 24th St)
URL:https://safesound.org/event-time/d3-drug-take-back/
LOCATION:WI
ATTACH;FMTTYPE=image/png:https://safesound.org/wp-content/uploads/2024/10/D3-DTB-2.png
END:VEVENT
BEGIN:VEVENT
DTSTART;TZID=America/Chicago:20241026T050000
DTEND;TZID=America/Chicago:20241026T090000
DTSTAMP:20260421T134610
CREATED:20241014T211008Z
LAST-MODIFIED:20241021T233004Z
UID:10000422-1729918800-1729933200@safesound.org
SUMMARY:D4 Drug Take-Back
DESCRIPTION:Location: 9040 W Good Hope Rd
URL:https://safesound.org/event-time/d4-national-drug-take-back/
LOCATION:WI
END:VEVENT
BEGIN:VEVENT
DTSTART;TZID=America/Chicago:20241026T060000
DTEND;TZID=America/Chicago:20241026T090000
DTSTAMP:20260421T134610
CREATED:20241008T222536Z
LAST-MODIFIED:20241008T222536Z
UID:10000417-1729922400-1729933200@safesound.org
SUMMARY:D2 Drug Take-Back
DESCRIPTION:Location: Christ-St. Peters Lutheran School (2137 W Greenfield Ave)
URL:https://safesound.org/event-time/d2-drug-take-back/
LOCATION:WI
ATTACH;FMTTYPE=image/png:https://safesound.org/wp-content/uploads/2024/10/D2-DTB.png
END:VEVENT
BEGIN:VEVENT
DTSTART;TZID=America/Chicago:20241026T060000
DTEND;TZID=America/Chicago:20241026T090000
DTSTAMP:20260421T134610
CREATED:20241016T201546Z
LAST-MODIFIED:20241018T202915Z
UID:10000427-1729922400-1729933200@safesound.org
SUMMARY:D5 Drug Take-Back
DESCRIPTION:Location: Walgreens at 2826 N Dr Martin Luther King Jr Dr
URL:https://safesound.org/event-time/d5-drug-take-back/
LOCATION:WI
END:VEVENT
BEGIN:VEVENT
DTSTART;TZID=America/Chicago:20241026T070000
DTEND;TZID=America/Chicago:20241026T110000
DTSTAMP:20260421T134610
CREATED:20241015T220536Z
LAST-MODIFIED:20241015T220536Z
UID:10000425-1729926000-1729940400@safesound.org
SUMMARY:D7 Drug Take-Back
DESCRIPTION:Location: Walgreens at 7600 W Capital Dr
URL:https://safesound.org/event-time/d7-drug-take-back/
LOCATION:WI
ATTACH;FMTTYPE=image/jpeg:https://safesound.org/wp-content/uploads/2024/10/D7-Drug-Take-Back.jpg
END:VEVENT
BEGIN:VEVENT
DTSTART;TZID=America/Chicago:20241028T110000
DTEND;TZID=America/Chicago:20241028T130000
DTSTAMP:20260421T134610
CREATED:20241017T202557Z
LAST-MODIFIED:20241017T202557Z
UID:10000428-1730113200-1730120400@safesound.org
SUMMARY:Barber Shop Monday
DESCRIPTION:Location: Owen’s Place (4610 W Fond du Lac Ave)
URL:https://safesound.org/event-time/barber-shop-monday/
LOCATION:WI
ATTACH;FMTTYPE=image/jpeg:https://safesound.org/wp-content/uploads/2024/10/Barber-Shop-Monday.jpeg
END:VEVENT
BEGIN:VEVENT
DTSTART;TZID=America/Chicago:20241030T110000
DTEND;TZID=America/Chicago:20241030T140000
DTSTAMP:20260421T134610
CREATED:20241008T220314Z
LAST-MODIFIED:20241008T220529Z
UID:10000415-1730286000-1730296800@safesound.org
SUMMARY:D3 Trick or Treat
DESCRIPTION:Location: Pick ‘n Save (2355 N 35th St)
URL:https://safesound.org/event-time/d3-trick-or-treat/
LOCATION:WI
ATTACH;FMTTYPE=image/png:https://safesound.org/wp-content/uploads/2024/10/D3-Trick-or-Treat.png
END:VEVENT
END:VCALENDAR