BEGIN:VCALENDAR
VERSION:2.0
PRODID:-//Safe and Sound - ECPv6.15.20//NONSGML v1.0//EN
CALSCALE:GREGORIAN
METHOD:PUBLISH
X-ORIGINAL-URL:https://safesound.org
X-WR-CALDESC:Events for Safe and Sound
REFRESH-INTERVAL;VALUE=DURATION:PT1H
X-Robots-Tag:noindex
X-PUBLISHED-TTL:PT1H
BEGIN:VTIMEZONE
TZID:America/Chicago
BEGIN:DAYLIGHT
TZOFFSETFROM:-0600
TZOFFSETTO:-0500
TZNAME:CDT
DTSTART:20230312T080000
END:DAYLIGHT
BEGIN:STANDARD
TZOFFSETFROM:-0500
TZOFFSETTO:-0600
TZNAME:CST
DTSTART:20231105T070000
END:STANDARD
BEGIN:DAYLIGHT
TZOFFSETFROM:-0600
TZOFFSETTO:-0500
TZNAME:CDT
DTSTART:20240310T080000
END:DAYLIGHT
BEGIN:STANDARD
TZOFFSETFROM:-0500
TZOFFSETTO:-0600
TZNAME:CST
DTSTART:20241103T070000
END:STANDARD
BEGIN:DAYLIGHT
TZOFFSETFROM:-0600
TZOFFSETTO:-0500
TZNAME:CDT
DTSTART:20250309T080000
END:DAYLIGHT
BEGIN:STANDARD
TZOFFSETFROM:-0500
TZOFFSETTO:-0600
TZNAME:CST
DTSTART:20251102T070000
END:STANDARD
END:VTIMEZONE
BEGIN:VEVENT
DTSTART;TZID=America/Chicago:20240905T100000
DTEND;TZID=America/Chicago:20240905T120000
DTSTAMP:20260421T134837
CREATED:20240812T230149Z
LAST-MODIFIED:20240812T231049Z
UID:10000343-1725530400-1725537600@safesound.org
SUMMARY:Brat with a Cop
DESCRIPTION:Pulaski Park (S 16th St & W Harrison Ave)
URL:https://safesound.org/event-time/brat-with-a-cop-3/
LOCATION:WI
ATTACH;FMTTYPE=image/jpeg:https://safesound.org/wp-content/uploads/2024/08/Sep5BratCop-scaled.jpg
END:VEVENT
BEGIN:VEVENT
DTSTART;TZID=America/Chicago:20240912T123000
DTEND;TZID=America/Chicago:20240912T143000
DTSTAMP:20260421T134837
CREATED:20240904T215103Z
LAST-MODIFIED:20240904T220003Z
UID:10000406-1726144200-1726151400@safesound.org
SUMMARY:D7 - Lincoln Park Collective Impact Data Chat
DESCRIPTION:Location: Safe & Sound (4422 W Leon Terrace)
URL:https://safesound.org/event-time/d7-lincoln-park-collective-impact-data-chat/
LOCATION:Safe & Sound\, 4422 West leon Terrace\, Milwaukee\, WI\, 53216\, United States
ATTACH;FMTTYPE=image/png:https://safesound.org/wp-content/uploads/2024/09/D7-Lincoln-Park-Data-Chat-Flyer.png
END:VEVENT
BEGIN:VEVENT
DTSTART;TZID=America/Chicago:20240916T123000
DTEND;TZID=America/Chicago:20240916T123000
DTSTAMP:20260421T134837
CREATED:20240904T214006Z
LAST-MODIFIED:20240904T214006Z
UID:10000404-1726489800-1726489800@safesound.org
SUMMARY:D4 - Little Menomonee Collective Impact Data Chat
DESCRIPTION:Location: Good Hope Library (7715 W Good Hope Road)
URL:https://safesound.org/event-time/d4-little-menomonee-collective-impact-data-chat/
LOCATION:WI
END:VEVENT
BEGIN:VEVENT
DTSTART;TZID=America/Chicago:20240917T123000
DTEND;TZID=America/Chicago:20240917T143000
DTSTAMP:20260421T134837
CREATED:20240904T214649Z
LAST-MODIFIED:20240904T214750Z
UID:10000405-1726576200-1726583400@safesound.org
SUMMARY:D5 - United Community Collective Impact Data Chat
DESCRIPTION:Location: Quad Graphics (4201 N 27th St\, 2nd Floor)
URL:https://safesound.org/event-time/d5-united-community-collective-impact-data-chat/
LOCATION:WI
ATTACH;FMTTYPE=image/png:https://safesound.org/wp-content/uploads/2024/09/D5-Data-Chat.png
END:VEVENT
BEGIN:VEVENT
DTSTART;TZID=America/Chicago:20240918T130000
DTEND;TZID=America/Chicago:20240918T130000
DTSTAMP:20260421T134837
CREATED:20240104T210429Z
LAST-MODIFIED:20240319T224635Z
UID:10000113-1726664400-1726664400@safesound.org
SUMMARY:MPD District 2 Crime & Safety Meeting
DESCRIPTION:Every Third Wednesday of the month.
URL:https://safesound.org/event-time/mpd-district-2-crime-safety-meeting/2024-09-18/
LOCATION:WI
ATTACH;FMTTYPE=image/jpeg:https://safesound.org/wp-content/uploads/2024/01/MPD-District-Two-crime-safety-Spanish-002.jpg
END:VEVENT
BEGIN:VEVENT
DTSTART;TZID=America/Chicago:20240920T130000
DTEND;TZID=America/Chicago:20240920T160000
DTSTAMP:20260421T134837
CREATED:20240820T212438Z
LAST-MODIFIED:20240820T212438Z
UID:10000346-1726837200-1726848000@safesound.org
SUMMARY:Youth Drug Prevention Summit
DESCRIPTION:Location: Milwaukee Academy of Science (W 2000 Kilbourn Ave)
URL:https://safesound.org/event-time/youth-drug-prevention-summit/
LOCATION:WI
ATTACH;FMTTYPE=image/png:https://safesound.org/wp-content/uploads/2024/08/Youth-Prevention-Summit.png
END:VEVENT
BEGIN:VEVENT
DTSTART;TZID=America/Chicago:20240925T113000
DTEND;TZID=America/Chicago:20240925T133000
DTSTAMP:20260421T134837
CREATED:20240918T223750Z
LAST-MODIFIED:20240918T224315Z
UID:10000409-1727263800-1727271000@safesound.org
SUMMARY:Future Voter Fest
DESCRIPTION:Location: La Plazita Parklet (16th & Forest Home Ave) \n  \n 
URL:https://safesound.org/event-time/future-voter-fest/
LOCATION:WI
ATTACH;FMTTYPE=application/pdf:https://safesound.org/wp-content/uploads/2024/09/FVF-Flyer-2024-Final-English.pdf
END:VEVENT
BEGIN:VEVENT
DTSTART;TZID=America/Chicago:20240930T090000
DTEND;TZID=America/Chicago:20240930T090000
DTSTAMP:20260421T134837
CREATED:20240904T212117Z
LAST-MODIFIED:20240904T212117Z
UID:10000403-1727686800-1727686800@safesound.org
SUMMARY:D3 - Metcalfe Park Collective Impact Data Chat
DESCRIPTION:Location: Safe & Sound (4422 W Leon Terrace)
URL:https://safesound.org/event-time/d3-metcalfe-park-collective-impact-data-chat/
LOCATION:Safe & Sound\, 4422 West leon Terrace\, Milwaukee\, WI\, 53216\, United States
ATTACH;FMTTYPE=image/png:https://safesound.org/wp-content/uploads/2024/09/D3-Metcalfe-Park-Data-Chat.png
END:VEVENT
END:VCALENDAR