BEGIN:VCALENDAR
VERSION:2.0
PRODID:-//Safe and Sound - ECPv6.15.20//NONSGML v1.0//EN
CALSCALE:GREGORIAN
METHOD:PUBLISH
X-ORIGINAL-URL:https://safesound.org
X-WR-CALDESC:Events for Safe and Sound
REFRESH-INTERVAL;VALUE=DURATION:PT1H
X-Robots-Tag:noindex
X-PUBLISHED-TTL:PT1H
BEGIN:VTIMEZONE
TZID:America/Chicago
BEGIN:DAYLIGHT
TZOFFSETFROM:-0600
TZOFFSETTO:-0500
TZNAME:CDT
DTSTART:20230312T080000
END:DAYLIGHT
BEGIN:STANDARD
TZOFFSETFROM:-0500
TZOFFSETTO:-0600
TZNAME:CST
DTSTART:20231105T070000
END:STANDARD
BEGIN:DAYLIGHT
TZOFFSETFROM:-0600
TZOFFSETTO:-0500
TZNAME:CDT
DTSTART:20240310T080000
END:DAYLIGHT
BEGIN:STANDARD
TZOFFSETFROM:-0500
TZOFFSETTO:-0600
TZNAME:CST
DTSTART:20241103T070000
END:STANDARD
BEGIN:DAYLIGHT
TZOFFSETFROM:-0600
TZOFFSETTO:-0500
TZNAME:CDT
DTSTART:20250309T080000
END:DAYLIGHT
BEGIN:STANDARD
TZOFFSETFROM:-0500
TZOFFSETTO:-0600
TZNAME:CST
DTSTART:20251102T070000
END:STANDARD
END:VTIMEZONE
BEGIN:VEVENT
DTSTART;TZID=America/Chicago:20240810T070000
DTEND;TZID=America/Chicago:20240810T110000
DTSTAMP:20260421T122209
CREATED:20240724T203250Z
LAST-MODIFIED:20240724T203441Z
UID:10000284-1723273200-1723287600@safesound.org
SUMMARY:Gingerbread Land Neighborhood Block Party
DESCRIPTION:Location: 1st St between Center & Clark
URL:https://safesound.org/event-time/gingerbread-land-neighborhood-block-party/
LOCATION:WI
ATTACH;FMTTYPE=image/png:https://safesound.org/wp-content/uploads/2024/07/Gingerbread-Land-Block-Party.png
END:VEVENT
BEGIN:VEVENT
DTSTART;TZID=America/Chicago:20240816T110000
DTEND;TZID=America/Chicago:20240816T130000
DTSTAMP:20260421T122209
CREATED:20240724T204157Z
LAST-MODIFIED:20240826T212443Z
UID:10000285-1723806000-1723813200@safesound.org
SUMMARY:Money Sense Financial Workshop
DESCRIPTION:Location: Safe & Sound (4422 W Leon Terr) \nRegister Here
URL:https://safesound.org/event-time/money-sense-financial-workshop/2024-08-16/
LOCATION:Safe & Sound\, 4422 West leon Terrace\, Milwaukee\, WI\, 53216\, United States
ATTACH;FMTTYPE=image/png:https://safesound.org/wp-content/uploads/2024/07/Money-Sense-Program.png
END:VEVENT
BEGIN:VEVENT
DTSTART;TZID=America/Chicago:20240820T100000
DTEND;TZID=America/Chicago:20240820T100000
DTSTAMP:20260421T122209
CREATED:20240820T212847Z
LAST-MODIFIED:20240820T212913Z
UID:10000347-1724148000-1724148000@safesound.org
SUMMARY:Brat With a Cop: Safe School Year Kickoff Edition
DESCRIPTION:Location: Safe & Sound (4422 W Leon Terrace)
URL:https://safesound.org/event-time/brat-with-a-cop-safe-school-year-kickoff-edition/
LOCATION:Safe & Sound\, 4422 West leon Terrace\, Milwaukee\, WI\, 53216\, United States
ATTACH;FMTTYPE=image/png:https://safesound.org/wp-content/uploads/2024/08/School-Kickoff-Brat-With-A-Cop.png
END:VEVENT
BEGIN:VEVENT
DTSTART;TZID=America/Chicago:20240821T130000
DTEND;TZID=America/Chicago:20240821T130000
DTSTAMP:20260421T122209
CREATED:20240814T204248Z
LAST-MODIFIED:20240814T204248Z
UID:10000112-1724245200-1724245200@safesound.org
SUMMARY:MPD District 2 Crime & Safety Meeting
DESCRIPTION:Every Third Wednesday of the month. \n8/21 Location: 16th & Forest Home
URL:https://safesound.org/event-time/mpd-district-2-crime-safety-meeting-2/
LOCATION:WI
ATTACH;FMTTYPE=image/jpeg:https://safesound.org/wp-content/uploads/2024/01/MPD-District-Two-crime-safety-Spanish-002.jpg
END:VEVENT
BEGIN:VEVENT
DTSTART;TZID=America/Chicago:20240823T110000
DTEND;TZID=America/Chicago:20240823T130000
DTSTAMP:20260421T122209
CREATED:20240724T204157Z
LAST-MODIFIED:20240826T212443Z
UID:10000348-1724410800-1724418000@safesound.org
SUMMARY:Money Sense Financial Workshop
DESCRIPTION:Location: Safe & Sound (4422 W Leon Terr) \nRegister Here
URL:https://safesound.org/event-time/money-sense-financial-workshop/2024-08-23/
LOCATION:Safe & Sound\, 4422 West leon Terrace\, Milwaukee\, WI\, 53216\, United States
ATTACH;FMTTYPE=image/png:https://safesound.org/wp-content/uploads/2024/07/Money-Sense-Program.png
END:VEVENT
BEGIN:VEVENT
DTSTART;TZID=America/Chicago:20240829T050000
DTEND;TZID=America/Chicago:20240829T070000
DTSTAMP:20260421T122209
CREATED:20240820T203224Z
LAST-MODIFIED:20240820T203224Z
UID:10000345-1724907600-1724914800@safesound.org
SUMMARY:92nd Street Community Clean-Up
DESCRIPTION:Starting Location: N 92nd St & W Silver Spring Dr
URL:https://safesound.org/event-time/92nd-street-community-clean-up/
LOCATION:WI
ATTACH;FMTTYPE=image/png:https://safesound.org/wp-content/uploads/2024/08/92nd-Street-Clean-Up.png
END:VEVENT
BEGIN:VEVENT
DTSTART;TZID=America/Chicago:20240829T120000
DTEND;TZID=America/Chicago:20240829T140000
DTSTAMP:20260421T122209
CREATED:20240808T204922Z
LAST-MODIFIED:20240808T204922Z
UID:10000340-1724932800-1724940000@safesound.org
SUMMARY:Clippers & Cops
DESCRIPTION:5:00pm-7:00pm \nLocation: Safe & Sound (4422 W Leon Terrace)
URL:https://safesound.org/event-time/clippers-cops/
LOCATION:Safe & Sound\, 4422 West leon Terrace\, Milwaukee\, WI\, 53216\, United States
ATTACH;FMTTYPE=image/png:https://safesound.org/wp-content/uploads/2024/08/Clippers-Cops-Final.png
END:VEVENT
BEGIN:VEVENT
DTSTART;TZID=America/Chicago:20240830T070000
DTEND;TZID=America/Chicago:20240830T083000
DTSTAMP:20260421T122210
CREATED:20240808T205152Z
LAST-MODIFIED:20240826T212807Z
UID:10000341-1725001200-1725006600@safesound.org
SUMMARY:Clippers & Cops Lunch and Panel Discussion
DESCRIPTION:12:00pm-1:30pm \nLocation: Ephesians Missionary Baptist Church (2412 N 6th St)
URL:https://safesound.org/event-time/clippers-cops-2/
LOCATION:WI
ATTACH;FMTTYPE=image/png:https://safesound.org/wp-content/uploads/2024/08/Community-Panel-Lunch-amp-Learn-1.png
END:VEVENT
BEGIN:VEVENT
DTSTART;TZID=America/Chicago:20240830T100000
DTEND;TZID=America/Chicago:20240830T100000
DTSTAMP:20260421T122210
CREATED:20240808T205521Z
LAST-MODIFIED:20240826T212911Z
UID:10000342-1725012000-1725012000@safesound.org
SUMMARY:Safe School Year Kick Off
DESCRIPTION:Location: Safe & Sound (4422 W Leon Terr)
URL:https://safesound.org/event-time/community-brat-with-a-cop-safe-school-year-kick-off/
LOCATION:Safe & Sound\, 4422 West leon Terrace\, Milwaukee\, WI\, 53216\, United States
ATTACH;FMTTYPE=image/png:https://safesound.org/wp-content/uploads/2024/08/Safe-School-Year-Kickoff-Edition-1.png
END:VEVENT
BEGIN:VEVENT
DTSTART;TZID=America/Chicago:20240830T110000
DTEND;TZID=America/Chicago:20240830T130000
DTSTAMP:20260421T122210
CREATED:20240724T204157Z
LAST-MODIFIED:20240826T212443Z
UID:10000349-1725015600-1725022800@safesound.org
SUMMARY:Money Sense Financial Workshop
DESCRIPTION:Location: Safe & Sound (4422 W Leon Terr) \nRegister Here
URL:https://safesound.org/event-time/money-sense-financial-workshop/2024-08-30/
LOCATION:Safe & Sound\, 4422 West leon Terrace\, Milwaukee\, WI\, 53216\, United States
ATTACH;FMTTYPE=image/png:https://safesound.org/wp-content/uploads/2024/07/Money-Sense-Program.png
END:VEVENT
BEGIN:VEVENT
DTSTART;TZID=America/Chicago:20240831T043000
DTEND;TZID=America/Chicago:20240831T120000
DTSTAMP:20260421T122210
CREATED:20240814T203631Z
LAST-MODIFIED:20240814T203631Z
UID:10000344-1725078600-1725105600@safesound.org
SUMMARY:Rhythm and Soles 5k Walk/Run
DESCRIPTION:Safe & Sound is a supporter of Healing Starts Today’s Rhythm and Soles 5k Walk/Run honoring International Overdose Awareness Day! \nIf you’ve been impacted by overdose\, join us at Veterans Park on August 31\, 2024. \nThe event runs from 9:30 a.m. to 5 p.m. Register today! \n#IOAD2024 #TogetherWeCan #EndOverdoseNow
URL:https://safesound.org/event-time/rhythm-and-soles-5k-walk-run/
LOCATION:WI
ATTACH;FMTTYPE=image/jpeg:https://safesound.org/wp-content/uploads/2024/08/Rhythm-and-Soles.jpg
END:VEVENT
END:VCALENDAR